BEGIN:VCALENDAR
PRODID:-//hacksw/handcal//NONSGML v1.0//EN
VERSION:2.0
METHOD:PUBLISH
BEGIN:VEVENT
DTSTART:20170607T150000Z
DTEND:20170608T003000Z
LOCATION:Haworth County Club, 5 Lake Shore Drive,  Haworth, NJ 07641
UID:1454820170607T150000ZAnnual Meeting & Member Golf Outing
DTSTAMP:20260422T223146Z
DESCRIPTION:\nThis is a member only event.  \n \nTicketing details will be provided on April 27th to the membership.\n \n \n \nSCHEDULE:\n \n \n \n11:00 AM - Registration and Lunch on the Patio\n \n12:00 PM - Shotgun start\n \n5:30 PM - Cocktails and hor d'oervres\n \n6:30 PM Dinner\n \n \n \nDress Code: NO denium, shorts or flip flops\n \n \n \nhttp://haworthcountryclub.com \n \n \nDriving Directions \n\n Via Garden State Parkway: \n Take GSP EXIT 165 toward Oradell Ave. TRAVEL 2.5 mi Turn left onto Grant Ave. TRAVEL 0.2 mi TURN LEFT ONTO LAKE SHORE DRIVE (bend in the road) âHaworth Country Club will be 0.1 miles on the right side \n\nVia George Washington Bridge:\n After the Bridge (Crossing into New Jersey). TRAVEL 2.4 mi Merge onto State Route 4/NJ-4 W via EXIT 72A left toward Paramus.TRAVEL 5.4 mi Take the GRAND AVE ramp toward Kinderkamack Rd/River Edge. TRAVEL 0.9 mi Turn slight right onto Ackerson St. 0.1 mi Turn slight right onto Grand Ave. TRAVEL 0.1 mi Take the 1st left onto Kinderkamack Rd. TRAVEL 3.1 mi Turn right onto Oradell Ave. TRAVEL 0.7 mi Turn left onto Grant Ave. TRAVEL 0.2 mi TURN LEFT ONTO LAKE SHORE DRIVE (Bend at the road) Haworth Country Club will be 0.1 miles on the right side \n\nPlease call Haworth Country Club at (201) 384-7300 x4 for more information.\n  \n \n \n
SUMMARY:Annual Meeting & Member Golf Outing - Estate Planning Council of Bergen County, Inc. 
PRIORITY:3
BEGIN:VALARM
TRIGGER:PT18H
ACTION:DISPLAY
DESCRIPTION:Reminder
END:VALARM
END:VEVENT
END:VCALENDAR