BEGIN:VCALENDAR
PRODID:-//hacksw/handcal//NONSGML v1.0//EN
VERSION:2.0
METHOD:PUBLISH
BEGIN:VEVENT
DTSTART:20100831T173000Z
DTEND:20100831T213000Z
LOCATION:Marriot Glenpointe
UID:476920100831T173000Z20 creative uses of life insurance in estate planning
DTSTAMP:20260420T072233Z
DESCRIPTION:\nThis is the joint meeting with Lee Nolan Associates/MassMutual.  Presentation will be from 1:30 to 4:30; cocktail hour 4:30-5:30 to meet and network with their associates.  A response is necessary to attend. \n \nMembers only, no guests.\n
SUMMARY:20 creative uses of life insurance in estate planning - Estate Planning Council of Bergen County, Inc. 
PRIORITY:3
BEGIN:VALARM
TRIGGER:PT18H
ACTION:DISPLAY
DESCRIPTION:Reminder
END:VALARM
END:VEVENT
END:VCALENDAR