BEGIN:VCALENDAR
PRODID:-//hacksw/handcal//NONSGML v1.0//EN
VERSION:2.0
METHOD:PUBLISH
BEGIN:VEVENT
DTSTART:20110512T204500Z
DTEND:20110513T000000Z
LOCATION:Stony Hill Inn
UID:538820110512T204500Z Study of High Net Worth Philanthropy
DTSTAMP:20260419T125540Z
DESCRIPTION:
SUMMARY: Study of High Net Worth Philanthropy - Estate Planning Council of Bergen County, Inc. 
PRIORITY:3
BEGIN:VALARM
TRIGGER:PT18H
ACTION:DISPLAY
DESCRIPTION:Reminder
END:VALARM
END:VEVENT
END:VCALENDAR